Workbook
Name 가구: #REF!
Name 가전: #REF!
Name 구분: #REF!
Name 기타: #REF!
Name 생활용품: #REF!
Name 신혼여행: #REF!
Name 양가부모님: #REF!
Name 예식관련: #REF!
Name 주방: #REF!
Name 집: #REF!
Name 패브릭: #REF!

Sheet 예식상세
A1: *예식관련상세내역
A3: 구 분 | B3: 목 록 | C3: 예상금액 | D3: 지출금 | E3: 비 고 | G3: 구 분 | H3: 목 록 | I3: 예상금액 | J3: 지출금 | K3: 비 고
A4: 양가부모님 | B4: 인사선물 | D4: =SUMIF(지출내역!C:C,B4,지출내역!F:F) -> 0 | G4: 예식관련 | H4: 청첩장 | I4: 0 | J4: =SUMIF(지출내역!C:C,H4,지출내역!F:F) -> 0
B5: 식사대접 | C5: 0 | D5: =SUMIF(지출내역!C:C,B5,지출내역!F:F) -> 0 | H5: 식장대관료 | I5: 0 | J5: =SUMIF(지출내역!C:C,H5,지출내역!F:F) -> 0
B6: 상견례 | C6: 0 | D6: =SUMIF(지출내역!C:C,B6,지출내역!F:F) -> 0 | H6: 드레스+메이크업 | I6: 0 | J6: =SUMIF(지출내역!C:C,H6,지출내역!F:F) -> 0
B7: 친인척인사 | C7: 0 | D7: =SUMIF(지출내역!C:C,B7,지출내역!F:F) -> 0 | H7: 스냅사진 | I7: 0 | J7: =SUMIF(지출내역!C:C,H7,지출내역!F:F) -> 0
C8: 0 | D8: =SUMIF(지출내역!C:C,B8,지출내역!F:F) -> 0 | H8: 원판사진 | I8: 0 | J8: =SUMIF(지출내역!C:C,H8,지출내역!F:F) -> 0
C9: 0 | D9: =SUMIF(지출내역!C:C,B9,지출내역!F:F) -> 0 | H9: 예식스냅 | I9: 0 | J9: =SUMIF(지출내역!C:C,H9,지출내역!F:F) -> 0
C10: 0 | D10: =SUMIF(지출내역!C:C,B10,지출내역!F:F) -> 0 | H10: 동영상 | I10: 0 | J10: =SUMIF(지출내역!C:C,H10,지출내역!F:F) -> 0
C11: 0 | D11: =SUMIF(지출내역!C:C,B11,지출내역!F:F) -> 0 | H11: 식대 | I11: 0 | J11: =SUMIF(지출내역!C:C,H11,지출내역!F:F) -> 0
B12: 계 | C12: =SUM(C4:C11) -> 0 | D12: =SUM(D4:D11) -> 0 | H12: 버스대절 | I12: 0 | J12: =SUMIF(지출내역!C:C,H12,지출내역!F:F) -> 0
A13: 기타 | B13: 신부친구 | C13: 0 | D13: =SUMIF(지출내역!C:C,B13,지출내역!F:F) -> 0 | H13: 사회자 | I13: 0 | J13: =SUMIF(지출내역!C:C,H13,지출내역!F:F) -> 0
B14: 신랑친구 | C14: 0 | D14: =SUMIF(지출내역!C:C,B14,지출내역!F:F) -> 0 | H14: 혼주한복 | I14: 0 | J14: =SUMIF(지출내역!C:C,H14,지출내역!F:F) -> 0
B15: 건강검진 | C15: 0 | D15: =SUMIF(지출내역!C:C,B15,지출내역!F:F) -> 0 | H15: 혼주메이크업 | I15: 0 | J15: =SUMIF(지출내역!C:C,H15,지출내역!F:F) -> 0
B16: 경비 | C16: 0 | D16: =SUMIF(지출내역!C:C,B16,지출내역!F:F) -> 0 | H16: 커플링 | I16: 0 | J16: =SUMIF(지출내역!C:C,H16,지출내역!F:F) -> 0
C17: 0 | D17: =SUMIF(지출내역!C:C,B17,지출내역!F:F) -> 0 | I17: 0 | J17: =SUMIF(지출내역!C:C,H17,지출내역!F:F) -> 0
B18: 계 | C18: =SUM(C13:C17) -> 0 | D18: =SUM(D13:D17) -> 0 | I18: 0 | J18: =SUMIF(지출내역!C:C,H18,지출내역!F:F) -> 0
I19: 0 | J19: =SUMIF(지출내역!C:C,H19,지출내역!F:F) -> 0
H20: 계 | I20: =SUM(I4:I19) -> 0 | J20: =SUM(J4:J19) -> 0
G21: 신혼여행 | H21: 비행기표 | I21: 0 | J21: =SUMIF(지출내역!C:C,H21,지출내역!F:F) -> 0
H22: 숙박 | I22: 0 | J22: =SUMIF(지출내역!C:C,H22,지출내역!F:F) -> 0
H23: 신혼여행경비 | I23: 0 | J23: =SUMIF(지출내역!C:C,H23,지출내역!F:F) -> 0
H24: 항공버스 | I24: 0 | J24: =SUMIF(지출내역!C:C,H24,지출내역!F:F) -> 0
H25: 선물 | I25: 0 | J25: =SUMIF(지출내역!C:C,H25,지출내역!F:F) -> 0
I26: 0 | J26: =SUMIF(지출내역!C:C,H26,지출내역!F:F) -> 0
I27: 0 | J27: =SUMIF(지출내역!C:C,H27,지출내역!F:F) -> 0
H28: 계 | I28: =SUM(I21:I27) -> 0 | J28: =SUM(J21:J27) -> 0

Sheet 혼수상세
A1: * 혼수상세내역
A3: 구 분 | B3: 목 록 | C3: 예상금액 | D3: 지출금 | E3: 비 고 | G3: 구 분 | H3: 목 록 | I3: 예상금액 | J3: 지출금 | K3: 비 고
A4: 집 | B4: 기존 | C4: 0 | D4: =SUMIF(지출내역!C:C,B4,지출내역!F:F) -> 0 | G4: 주방 | H4: 손님용식기 | J4: =SUMIF(지출내역!C:C,H4,지출내역!F:F) -> 0
B5: 대출 | C5: 0 | D5: =SUMIF(지출내역!C:C,B5,지출내역!F:F) -> 0 | H5: 냄비 | I5: 0 | J5: =SUMIF(지출내역!C:C,H5,지출내역!F:F) -> 0
B6: 기타비용 | C6: 0 | D6: =SUMIF(지출내역!C:C,B6,지출내역!F:F) -> 0 | H6: 후라이팬 | I6: 0 | J6: =SUMIF(지출내역!C:C,H6,지출내역!F:F) -> 0
B7: 계 | C7: =SUM(C4:C6) -> 0 | D7: =SUM(D4:D6) -> 0 | H7: 수저세트 | I7: 0 | J7: =SUMIF(지출내역!C:C,H7,지출내역!F:F) -> 0
A8: 가전 | B8: 냉장고 | C8: 0 | D8: =SUMIF(지출내역!C:C,B8,지출내역!F:F) -> 0 | H8: 조리도구 | I8: 0 | J8: =SUMIF(지출내역!C:C,H8,지출내역!F:F) -> 0
B9: TV | C9: 0 | D9: =SUMIF(지출내역!C:C,B9,지출내역!F:F) -> 0 | H9: 부엌칼 | I9: 0 | J9: =SUMIF(지출내역!C:C,H9,지출내역!F:F) -> 0
B10: 세탁기 | C10: 0 | D10: =SUMIF(지출내역!C:C,B10,지출내역!F:F) -> 0 | H10: 밀폐용기 | I10: 0 | J10: =SUMIF(지출내역!C:C,H10,지출내역!F:F) -> 0
B11: 에어컨 | C11: 0 | D11: =SUMIF(지출내역!C:C,B11,지출내역!F:F) -> 0 | H11: 쌀통 | I11: 0 | J11: =SUMIF(지출내역!C:C,H11,지출내역!F:F) -> 0
B12: 전기밥솥 | C12: 0 | D12: =SUMIF(지출내역!C:C,B12,지출내역!F:F) -> 0 | H12: 물통 | I12: 0 | J12: =SUMIF(지출내역!C:C,H12,지출내역!F:F) -> 0
B13: 전자레인지 | C13: 0 | D13: =SUMIF(지출내역!C:C,B13,지출내역!F:F) -> 0 | H13: 부부용식기세트 | I13: 0 | J13: =SUMIF(지출내역!C:C,H13,지출내역!F:F) -> 0
B14: 믹서기 | C14: 0 | D14: =SUMIF(지출내역!C:C,B14,지출내역!F:F) -> 0 | H14: 기타식기 | I14: 0 | J14: =SUMIF(지출내역!C:C,H14,지출내역!F:F) -> 0
B15: 청소기 | C15: 0 | D15: =SUMIF(지출내역!C:C,B15,지출내역!F:F) -> 0 | H15: 밀폐용기 | I15: 0 | J15: =SUMIF(지출내역!C:C,H15,지출내역!F:F) -> 0
B16: 다리미 | C16: 0 | D16: =SUMIF(지출내역!C:C,B16,지출내역!F:F) -> 0 | H16: 주방청소 | I16: 0 | J16: =SUMIF(지출내역!C:C,H16,지출내역!F:F) -> 0
B17: 드라이기 | C17: 0 | D17: =SUMIF(지출내역!C:C,B17,지출내역!F:F) -> 0 | I17: 0 | J17: =SUMIF(지출내역!C:C,H17,지출내역!F:F) -> 0
B18: 노트북 | C18: 0 | D18: =SUMIF(지출내역!C:C,B18,지출내역!F:F) -> 0 | J18: =SUMIF(지출내역!C:C,H18,지출내역!F:F) -> 0
B19: 카메라 | C19: 0 | D19: =SUMIF(지출내역!C:C,B19,지출내역!F:F) -> 0 | J19: =SUMIF(지출내역!C:C,H19,지출내역!F:F) -> 0
B20: 기타 | C20: 0 | D20: =SUMIF(지출내역!C:C,B20,지출내역!F:F) -> 0 | H20: 계 | I20: =SUM(I4:I19) -> 0 | J20: =SUM(J4:J19) -> 0
C21: 0 | D21: 0 | G21: 패브릭 | H21: 이불세트 | I21: 0 | J21: =SUMIF(지출내역!C:C,H21,지출내역!F:F) -> 0
C22: 0 | D22: =SUMIF(지출내역!C:C,B22,지출내역!F:F) -> 0 | H22: 수건 | I22: 0 | J22: =SUMIF(지출내역!C:C,H22,지출내역!F:F) -> 0
B23: 계 | C23: =SUM(C8:C22) -> 0 | D23: =SUM(D8:D22) -> 0 | H23: 전기요 | I23: 0 | J23: =SUMIF(지출내역!C:C,H23,지출내역!F:F) -> 0
A24: 가구 | B24: 침대 | C24: 0 | D24: =SUMIF(지출내역!C:C,B24,지출내역!F:F) -> 0 | H24: 커튼 | I24: 0 | J24: =SUMIF(지출내역!C:C,H24,지출내역!F:F) -> 0
B25: 옷장 | C25: 0 | D25: =SUMIF(지출내역!C:C,B25,지출내역!F:F) -> 0 | I25: 0 | J25: =SUMIF(지출내역!C:C,H25,지출내역!F:F) -> 0
B26: 수납장 | C26: 0 | D26: =SUMIF(지출내역!C:C,B26,지출내역!F:F) -> 0 | J26: =SUMIF(지출내역!C:C,H26,지출내역!F:F) -> 0
B27: 화장대 | C27: 0 | D27: =SUMIF(지출내역!C:C,B27,지출내역!F:F) -> 0 | H27: 계 | I27: =SUM(I21:I26) -> 0 | J27: =SUM(J21:J26) -> 0
B28: 책상+의자 | C28: 0 | D28: =SUMIF(지출내역!C:C,B28,지출내역!F:F) -> 0 | G28: 생활용품 | H28: 옷걸이 | I28: 0 | J28: =SUMIF(지출내역!C:C,H28,지출내역!F:F) -> 0
B29: 식탁+의자 | C29: 0 | D29: =SUMIF(지출내역!C:C,B29,지출내역!F:F) -> 0 | H29: 욕실용품 | I29: 0 | J29: =SUMIF(지출내역!C:C,H29,지출내역!F:F) -> 0
B30: 매트리스 | C30: 0 | D30: =SUMIF(지출내역!C:C,B30,지출내역!F:F) -> 0 | H30: 청소도구 | I30: 0 | J30: =SUMIF(지출내역!C:C,H30,지출내역!F:F) -> 0
B31: 책장 | C31: 0 | D31: =SUMIF(지출내역!C:C,B31,지출내역!F:F) -> 0 | H31: 시계 | I31: 0 | J31: =SUMIF(지출내역!C:C,H31,지출내역!F:F) -> 0
C32: 0 | D32: =SUMIF(지출내역!C:C,B32,지출내역!F:F) -> 0 | H32: 분리수거함 | I32: 0 | J32: =SUMIF(지출내역!C:C,H32,지출내역!F:F) -> 0
B33: 계 | C33: =SUM(C24:C31) -> 0 | D33: =SUM(D24:D30) -> 0 | H33: 빨래통 | I33: 0 | J33: =SUMIF(지출내역!C:C,H33,지출내역!F:F) -> 0
I34: 0 | J34: =SUMIF(지출내역!C:C,H34,지출내역!F:F) -> 0
I35: 0 | J35: =SUMIF(지출내역!C:C,H35,지출내역!F:F) -> 0
H36: 계 | I36: =SUM(I28:I35) -> 0 | J36: =SUM(J28:J35) -> 0

Sheet 수입내역
C2: 합계 | D2: =SUBTOTAL(9,D5:D1289) -> 0
A4: 구분 | B4: 신랑 | C4: 신부 | D4: 합계 | E4: 비고
B5: 0 | C5: 0 | D5: =SUM(B5:C5) -> 0
B6: 0 | C6: 0 | D6: =SUM(B6:C6) -> 0
B7: 0 | C7: 0 | D7: =SUM(B7:C7) -> 0
B8: 0 | C8: 0 | D8: =SUM(B8:C8) -> 0
B9: 0 | C9: 0 | D9: =SUM(B9:C9) -> 0
B10: 0 | C10: 0 | D10: =SUM(B10:C10) -> 0
B11: 0 | C11: 0 | D11: =SUM(B11:C11) -> 0
B12: 0 | C12: 0 | D12: =SUM(B12:C12) -> 0
B13: 0 | C13: 0 | D13: =SUM(B13:C13) -> 0
B14: 0 | C14: 0 | D14: =SUM(B14:C14) -> 0
B15: 0 | C15: 0 | D15: =SUM(B15:C15) -> 0
B16: 0 | C16: 0 | D16: =SUM(B16:C16) -> 0
... B133: 0 | C133: 0 | D133: =SUM(B133:C133) -> 0

Sheet 지출내역
E2: 합계 | F2: =SUBTOTAL(9,F4:F1288) -> 0
A4: 날짜 | B4: 구분 | C4: 품목 | D4: 상세내용 | E4: 구매처 | F4: 금액 | G4: 비고
F5: 0
F6: 0
F7: 0
F8: 0
F9: 0
F10: 0
F11: 0
F12: 0
F13: 0
F14: 0
F15: 0
F16: 0
... F104: 0
